BEGIN:VCALENDAR
VERSION:2.0
PRODID:icalendar-ruby
CALSCALE:GREGORIAN
METHOD:PUBLISH
BEGIN:VEVENT
DTSTAMP:20260419T151510Z
UID:810-9403360@lakewoodalliance.com
DTSTART:20261004T160000Z
DTEND:20261004T171500Z
CLASS:PUBLIC
CREATED:20260419T065159
DESCRIPTION:Sunday Service
LAST-MODIFIED:20260419T065159
LOCATION:Worship Centre
SUMMARY:Sunday Service
URL;VALUE=URI:https://www.lakewoodalliance.com/events/sunday-service--810/2
 026-10-04
END:VEVENT
END:VCALENDAR
