BEGIN:VCALENDAR
VERSION:2.0
PRODID:icalendar-ruby
CALSCALE:GREGORIAN
METHOD:PUBLISH
BEGIN:VEVENT
DTSTAMP:20260419T182809Z
UID:810-9407693@lakewoodalliance.com
DTSTART:20261018T160000Z
DTEND:20261018T171500Z
CLASS:PUBLIC
CREATED:20260419T103345
DESCRIPTION:Sunday Service
LAST-MODIFIED:20260419T103345
LOCATION:Worship Centre
SUMMARY:Sunday Service
URL;VALUE=URI:https://www.lakewoodalliance.com/events/sunday-service--810/2
 026-10-18
END:VEVENT
END:VCALENDAR
