BEGIN:VCALENDAR
VERSION:2.0
PRODID:icalendar-ruby
CALSCALE:GREGORIAN
METHOD:PUBLISH
BEGIN:VEVENT
DTSTAMP:20260419T201437Z
UID:810-9407694@lakewoodalliance.com
DTSTART:20261025T160000Z
DTEND:20261025T171500Z
CLASS:PUBLIC
CREATED:20260419T103345
DESCRIPTION:Sunday Service
LAST-MODIFIED:20260419T103345
LOCATION:Worship Centre
SUMMARY:Sunday Service
URL;VALUE=URI:https://www.lakewoodalliance.com/events/sunday-service--810/2
 026-10-25
END:VEVENT
END:VCALENDAR
