BEGIN:VCALENDAR
VERSION:2.0
PRODID:icalendar-ruby
CALSCALE:GREGORIAN
METHOD:PUBLISH
BEGIN:VEVENT
DTSTAMP:20260419T221307Z
UID:810-9412029@lakewoodalliance.com
DTSTART:20261101T170000Z
DTEND:20261101T181500Z
CLASS:PUBLIC
CREATED:20260419T141621
DESCRIPTION:Sunday Service
LAST-MODIFIED:20260419T141621
LOCATION:Worship Centre
SUMMARY:Sunday Service
URL;VALUE=URI:https://www.lakewoodalliance.com/events/sunday-service--810/2
 026-11-01
END:VEVENT
END:VCALENDAR
