BEGIN:VCALENDAR
VERSION:2.0
PRODID:icalendar-ruby
CALSCALE:GREGORIAN
METHOD:PUBLISH
BEGIN:VEVENT
DTSTAMP:20260421T233208Z
UID:798-9472672@lakewoodalliance.com
DTSTART:20261011T210000Z
DTEND:20261011T230000Z
CLASS:PUBLIC
CREATED:20260421T161254
DESCRIPTION:Young Adults is a vibrant group of 18-25 years olds that gather
  to have fun and dig into the word each week. Join our group on the Church
  Center app for updates about where we are meeting each week!\nFor our Sep
 tember 14th Kick-off\, we will head out to the Church Corn Roast at the Jo
 nes/Paetkau property (3795 Vienna Rd) and hang out together there to talk 
 about some ideas for what we'll do this year. Come out for some great food
  and hang out time together. And if you're able\, bring a nut-free salad a
 nd/or dessert to share.\n 
LAST-MODIFIED:20260421T161254
LOCATION:
SUMMARY:Young Adults
URL;VALUE=URI:https://www.lakewoodalliance.com/events/young-adults--798/202
 6-10-11
ATTACH;FILENAME=olivia-snow-CPPFtCHY6mo-unsplash.jpeg;FMTTYPE=image/jpeg:ht
 tps://dq5pwpg1q8ru0.cloudfront.net/2025/01/10/15/28/30/bc137fec-42d9-4ab4-
 bee5-d18ea769aa1b/olivia-snow-CPPFtCHY6mo-unsplash.jpeg
END:VEVENT
END:VCALENDAR
